BEGIN:VCALENDAR
PRODID:-//www.artist-trading-cards.ch//EN
VERSION:2.0
METHOD:PUBLISH
BEGIN:VEVENT
DTSTART;TZID=America/New_York:20220430T150000
DTEND;TZID=America/New_York:20220430T170000
URL:https://artist-trading-cards.ch/events/calgary-alberta-canada/
SUMMARY:Calgary, Alberta, Canada
LOCATION:TRUCK'S community space, U-Hall
DESCRIPTION:ATC Trading SessionARTIST TRADING Cards Calgary meets monthly, different days, times and different places.
END:VEVENT
END:VCALENDAR